BEGIN:VCALENDAR
VERSION:2.0
PRODID:-//Gratis Uppsala - ECPv5.2.1//NONSGML v1.0//EN
CALSCALE:GREGORIAN
METHOD:PUBLISH
X-WR-CALNAME:Gratis Uppsala
X-ORIGINAL-URL:https://arkiv.gratisuppsala.se
X-WR-CALDESC:Händelser för Gratis Uppsala
BEGIN:VTIMEZONE
TZID:Europe/Stockholm
BEGIN:DAYLIGHT
TZOFFSETFROM:+0100
TZOFFSETTO:+0200
TZNAME:CEST
DTSTART:20180325T010000
END:DAYLIGHT
BEGIN:STANDARD
TZOFFSETFROM:+0200
TZOFFSETTO:+0100
TZNAME:CET
DTSTART:20181028T010000
END:STANDARD
END:VTIMEZONE
BEGIN:VEVENT
DTSTART;TZID=Europe/Stockholm:20180414T143000
DTEND;TZID=Europe/Stockholm:20180414T153000
DTSTAMP:20260420T085155
CREATED:20180412T062129Z
LAST-MODIFIED:20180412T062238Z
UID:23962-1523716200-1523719800@arkiv.gratisuppsala.se
SUMMARY:Vargarna på Isle Royal under 60 år
DESCRIPTION:Vargarna på Isle Royal under 60 år\nÖppen föreläsning inför Svenska rovdjursföreningens årsmöte! \nForskare har bevakat nationalparken Isle Royale i sjön Lake Superior i USA under många år. Jannikke Räikkönen\, osteolog vid Naturhistoriska riksmuseet\, har följt vargarna och berättar om populationens uppgång och fall. \nPlats: Bergsbrunnagatan 1\, 753 23 Uppsala (Folkuniversitetets lokaler) \nTid: Lördag 14 april 13:30 – 14:30 \nLänk: Svenska rovdjursföreningen \nBild från pixabay.com \nDela evenemanget
URL:https://arkiv.gratisuppsala.se/event/vargarna-pa-isle-royal/
LOCATION:Folkuniversitetet\, Bergsbrunnagatan 1\, Uppsala
CATEGORIES:Föreläsning och Kurs,Kunskap och Lärande
ATTACH;FMTTYPE=image/jpeg:https://arkiv.gratisuppsala.se/wp-content/uploads/2018/04/wolves-2920091_640.jpg
ORGANIZER;CN="Svenska%20rovdjursf%C3%B6reningen":MAILTO:info@rovdjur.se
GEO:59.856414;17.6570325
X-APPLE-STRUCTURED-LOCATION;VALUE=URI;X-ADDRESS=Folkuniversitetet Bergsbrunnagatan 1 Uppsala;X-APPLE-RADIUS=500;X-TITLE=Bergsbrunnagatan 1:geo:17.6570325,59.856414
END:VEVENT
END:VCALENDAR