BEGIN:VCALENDAR
VERSION:2.0
PRODID:-//Gratis Uppsala - ECPv5.2.1//NONSGML v1.0//EN
CALSCALE:GREGORIAN
METHOD:PUBLISH
X-WR-CALNAME:Gratis Uppsala
X-ORIGINAL-URL:https://arkiv.gratisuppsala.se
X-WR-CALDESC:Händelser för Gratis Uppsala
BEGIN:VTIMEZONE
TZID:Europe/Stockholm
BEGIN:DAYLIGHT
TZOFFSETFROM:+0100
TZOFFSETTO:+0200
TZNAME:CEST
DTSTART:20160327T010000
END:DAYLIGHT
BEGIN:STANDARD
TZOFFSETFROM:+0200
TZOFFSETTO:+0100
TZNAME:CET
DTSTART:20161030T010000
END:STANDARD
END:VTIMEZONE
BEGIN:VEVENT
DTSTART;TZID=Europe/Stockholm:20160518T140000
DTEND;TZID=Europe/Stockholm:20160518T150000
DTSTAMP:20260421T050338
CREATED:20160513T064716Z
LAST-MODIFIED:20160513T064716Z
UID:6991-1463580000-1463583600@arkiv.gratisuppsala.se
SUMMARY:Vårkonsert i Gottsunda kyrka
DESCRIPTION:Vårkonsert med församlingens kyrkomusiker. \nMedverkande: Denise Engman\, Ulrika Dabo och Peter Melin. \nEfteråt fika med Kyrkträffen. \nFritt inträde. \nVälkomna! \nFOTO: Anna-Lena Arreborn \nDela evenemanget
URL:https://arkiv.gratisuppsala.se/event/varkonsert-gottsunda-kyrka/
LOCATION:Gottsunda kyrka\, Gottsunda Centrum\, Uppsala\, 75025\, Sverige
CATEGORIES:Sång och Musik
ATTACH;FMTTYPE=image/jpeg:https://arkiv.gratisuppsala.se/wp-content/uploads/2016/05/gottsunda20kyrka20sommar-e1463125544706.jpg
GEO:59.8093409;17.6295555
X-APPLE-STRUCTURED-LOCATION;VALUE=URI;X-ADDRESS=Gottsunda kyrka Gottsunda Centrum Uppsala 75025 Sverige;X-APPLE-RADIUS=500;X-TITLE=Gottsunda Centrum:geo:17.6295555,59.8093409
END:VEVENT
END:VCALENDAR