BEGIN:VCALENDAR
VERSION:2.0
PRODID:-//Gratis Uppsala - ECPv5.2.1//NONSGML v1.0//EN
CALSCALE:GREGORIAN
METHOD:PUBLISH
X-WR-CALNAME:Gratis Uppsala
X-ORIGINAL-URL:https://arkiv.gratisuppsala.se
X-WR-CALDESC:Händelser för Gratis Uppsala
BEGIN:VTIMEZONE
TZID:Europe/Stockholm
BEGIN:DAYLIGHT
TZOFFSETFROM:+0100
TZOFFSETTO:+0200
TZNAME:CEST
DTSTART:20160327T010000
END:DAYLIGHT
BEGIN:STANDARD
TZOFFSETFROM:+0200
TZOFFSETTO:+0100
TZNAME:CET
DTSTART:20161030T010000
END:STANDARD
END:VTIMEZONE
BEGIN:VEVENT
DTSTART;TZID=Europe/Stockholm:20160505T200000
DTEND;TZID=Europe/Stockholm:20160505T220000
DTSTAMP:20260421T190744
CREATED:20160502T070011Z
LAST-MODIFIED:20160502T070011Z
UID:6875-1462478400-1462485600@arkiv.gratisuppsala.se
SUMMARY:Vårkonsert med DUM (Domkyrkoförsamlingens ungdomsmusik)
DESCRIPTION:Sommarsånger och popmusik varvas med allsång och kaffe.\nMedverkande: rockkören DUM (Domkyrkoförsamlingens ungdomsmusik)\nsolister & musiker under ledning av Niclas Dahl \n\nSankt Pers kyrka torsdag 5 maj kl. 19:00 – 21:00 \nFri entré \nVälkomna! \n\n Dela evenemanget
URL:https://arkiv.gratisuppsala.se/event/varkonsert-med-dum-domkyrkoforsamlingens-ungdomsmusik/
LOCATION:S:t Pers kyrka\, Kvarntorget\, 754 21 Uppsala\, Uppsala\, 754 21\, Sverige
CATEGORIES:Sång och Musik
GEO:59.867595;17.6492336
X-APPLE-STRUCTURED-LOCATION;VALUE=URI;X-ADDRESS=S:t Pers kyrka Kvarntorget 754 21 Uppsala Uppsala 754 21 Sverige;X-APPLE-RADIUS=500;X-TITLE=Kvarntorget\, 754 21 Uppsala:geo:17.6492336,59.867595
END:VEVENT
END:VCALENDAR