BEGIN:VCALENDAR
VERSION:2.0
PRODID:-//Gratis Uppsala - ECPv5.2.1//NONSGML v1.0//EN
CALSCALE:GREGORIAN
METHOD:PUBLISH
X-WR-CALNAME:Gratis Uppsala
X-ORIGINAL-URL:https://arkiv.gratisuppsala.se
X-WR-CALDESC:Händelser för Gratis Uppsala
BEGIN:VTIMEZONE
TZID:Europe/Stockholm
BEGIN:DAYLIGHT
TZOFFSETFROM:+0100
TZOFFSETTO:+0200
TZNAME:CEST
DTSTART:20160327T010000
END:DAYLIGHT
BEGIN:STANDARD
TZOFFSETFROM:+0200
TZOFFSETTO:+0100
TZNAME:CET
DTSTART:20161030T010000
END:STANDARD
END:VTIMEZONE
BEGIN:VEVENT
DTSTART;TZID=Europe/Stockholm:20160423T140000
DTEND;TZID=Europe/Stockholm:20160423T160000
DTSTAMP:20260420T141239
CREATED:20160418T074835Z
LAST-MODIFIED:20160418T075601Z
UID:6761-1461420000-1461427200@arkiv.gratisuppsala.se
SUMMARY:Världsbokdagen
DESCRIPTION:Fira Världsbokdagen på Stadsbiblioteket lördag 23 april kl 13-15. \nVälkomna att fira Världsbokdagen på Stadsbiblioteket\, där man särskilt uppmärksammar Nalle Puh som fyller 90 år i år. Lyssna till högläsning av AA Milnes klassiska berättelser om lille påhittige nallen och gå en tipspromenad genom biblioteket. \nFör barn från 2 år. Ingen föranmälan. \nBild: pixabay.com. \nDela evenemanget
URL:https://arkiv.gratisuppsala.se/event/varldsbokdagen/
LOCATION:Stadsbiblioteket\, Svartbäcksgatan 17
ATTACH;FMTTYPE=image/jpeg:https://arkiv.gratisuppsala.se/wp-content/uploads/2016/04/nalle_puh.jpg
ORGANIZER;CN="Bibliotek%20Uppsala":MAILTO:kundtjanst@bibliotekuppsala.se
GEO:59.8606206;17.6353278
X-APPLE-STRUCTURED-LOCATION;VALUE=URI;X-ADDRESS=Stadsbiblioteket Svartbäcksgatan 17;X-APPLE-RADIUS=500;X-TITLE=Svartbäcksgatan 17:geo:17.6353278,59.8606206
END:VEVENT
END:VCALENDAR