BEGIN:VCALENDAR
VERSION:2.0
PRODID:-//Gratis Uppsala - ECPv5.2.1//NONSGML v1.0//EN
CALSCALE:GREGORIAN
METHOD:PUBLISH
X-WR-CALNAME:Gratis Uppsala
X-ORIGINAL-URL:https://arkiv.gratisuppsala.se
X-WR-CALDESC:Händelser för Gratis Uppsala
BEGIN:VTIMEZONE
TZID:Europe/Stockholm
BEGIN:DAYLIGHT
TZOFFSETFROM:+0100
TZOFFSETTO:+0200
TZNAME:CEST
DTSTART:20160327T010000
END:DAYLIGHT
BEGIN:STANDARD
TZOFFSETFROM:+0200
TZOFFSETTO:+0100
TZNAME:CET
DTSTART:20161030T010000
END:STANDARD
END:VTIMEZONE
BEGIN:VEVENT
DTSTART;TZID=Europe/Stockholm:20160514T110000
DTEND;TZID=Europe/Stockholm:20160514T160000
DTSTAMP:20260420T003425
CREATED:20160511T100556Z
LAST-MODIFIED:20160511T100650Z
UID:6945-1463223600-1463241600@arkiv.gratisuppsala.se
SUMMARY:Vårmarknad på Svamptorget
DESCRIPTION:Vårmarknad på Svamptorget lördag 14 maj kl 10-15. \nSå här ser programmet ut:\nkl 10 Marknaden öppnar.\nkl 10.30 Ansiktsmålning\, avslutas 12.30.\nkl 11 Södra Norby villaförening hälsar välkomna. Tävling.\nkl 11.45 Fiskauktion\, även kl 12.45\, 13.45 och 14.45.\nkl 12-14 Norby Brass\, niomannaorkester spelar.\nkl 14.30 Malmaskolans kör sjunger.\nkl 14.45 Vinnare i tipspromenad och lotteri presenteras.\nkl 15 Marknaden stänger. \nFörutom marknad blir det även loppis\, tipspromenad och lotteri.\nPysselhörna på Ateljé 54. \nArrangörer:\nSödra Norby villaförening tillsammans med ICA Norby. \nFoto från: norby.org. \nDela evenemanget
URL:https://arkiv.gratisuppsala.se/event/varmarknad-pa-svamptorget/
LOCATION:Sverige
CATEGORIES:Marknad & Loppis
ATTACH;FMTTYPE=image/jpeg:https://arkiv.gratisuppsala.se/wp-content/uploads/2016/05/norby_marknad.jpg
END:VEVENT
END:VCALENDAR