BEGIN:VCALENDAR
VERSION:2.0
PRODID:-//Gratis Uppsala - ECPv5.2.1//NONSGML v1.0//EN
CALSCALE:GREGORIAN
METHOD:PUBLISH
X-WR-CALNAME:Gratis Uppsala
X-ORIGINAL-URL:https://arkiv.gratisuppsala.se
X-WR-CALDESC:Händelser för Gratis Uppsala
BEGIN:VTIMEZONE
TZID:Europe/Stockholm
BEGIN:DAYLIGHT
TZOFFSETFROM:+0100
TZOFFSETTO:+0200
TZNAME:CEST
DTSTART:20160327T010000
END:DAYLIGHT
BEGIN:STANDARD
TZOFFSETFROM:+0200
TZOFFSETTO:+0100
TZNAME:CET
DTSTART:20161030T010000
END:STANDARD
END:VTIMEZONE
BEGIN:VEVENT
DTSTART;TZID=Europe/Stockholm:20160420T190000
DTEND;TZID=Europe/Stockholm:20160302T170000
DTSTAMP:20260421T055103
CREATED:20160302T125451Z
LAST-MODIFIED:20160302T125451Z
UID:6347-1461178800-1456938000@arkiv.gratisuppsala.se
SUMMARY:Vernissage för utställningen En hemlig plats
DESCRIPTION:Konstnären Knutte Wester samtalar med Kristin Windolf Granberg om att skapa konst bland barn i asylboende. \nDela evenemanget
URL:https://arkiv.gratisuppsala.se/event/vernissage-for-utstallningen-en-hemlig-plats/
LOCATION:Katedralkaféet\, Fjärdingen\, Uppsala\, 75310\, Sverige
CATEGORIES:Konst, Fotografi och Design
GEO:59.8565906;17.6306386
X-APPLE-STRUCTURED-LOCATION;VALUE=URI;X-ADDRESS=Katedralkaféet Fjärdingen Uppsala 75310 Sverige;X-APPLE-RADIUS=500;X-TITLE=Fjärdingen:geo:17.6306386,59.8565906
END:VEVENT
END:VCALENDAR