BEGIN:VCALENDAR
VERSION:2.0
PRODID:-//Gratis Uppsala - ECPv5.2.1//NONSGML v1.0//EN
CALSCALE:GREGORIAN
METHOD:PUBLISH
X-WR-CALNAME:Gratis Uppsala
X-ORIGINAL-URL:https://arkiv.gratisuppsala.se
X-WR-CALDESC:Händelser för Gratis Uppsala
BEGIN:VTIMEZONE
TZID:Europe/Stockholm
BEGIN:DAYLIGHT
TZOFFSETFROM:+0100
TZOFFSETTO:+0200
TZNAME:CEST
DTSTART:20180325T010000
END:DAYLIGHT
BEGIN:STANDARD
TZOFFSETFROM:+0200
TZOFFSETTO:+0100
TZNAME:CET
DTSTART:20181028T010000
END:STANDARD
END:VTIMEZONE
BEGIN:VEVENT
DTSTART;TZID=Europe/Stockholm:20180817T170000
DTEND;TZID=Europe/Stockholm:20180817T220000
DTSTAMP:20260420T054620
CREATED:20180815T141231Z
LAST-MODIFIED:20180815T141321Z
UID:27232-1534525200-1534543200@arkiv.gratisuppsala.se
SUMMARY:Vernissage Jörgen Winberg på Galleri Upsala
DESCRIPTION:Vernissage Jörgen Winberg på Galleri Upsala\nKonstnär Jörgen Winberg ställer ut på Galleri Upsala. \nUtställning öppnas med vernissage fredagen den 17 augusti klockan 16.00-21.00 och går därefter att avnjuta fram till onsdag den 22 augusti mellan 12.00-18.00. \nKort biografi\nJörgen Winberg föddes 1965 i Södertälje\, men bor numera i Grödinge utanför Stockholm.  \nJörgen är en autodidakt konstnär och har sedan 90-talet deltagit i ett antal solo- och samlingsutställningar. Då skildrade han i huvudsak Stockholm och dess skärgård i olja och en mer klassisk stil.  \nPå senare har Jörgen bytt medium till akryl och porträtterar nu personer och kända musiker i en mer modern stil\, men behåller fortfarande grunderna från den klassisk föreställande konsten.  \nVar:\nGalleri Upsala\, Svartbäcksgatan 21 \nNär:\n17-22 augusti\nFredag kl 16-21\nLördag-onsdag kl 12-18 \n\nFör mer information besök gärna Jörgen Winbergs egen sida.\n(Länken öppnas i ett nytt fönster/flik.) \nBild: Jörgen Winberg (med tillstånd) \nDela evenemanget
URL:https://arkiv.gratisuppsala.se/event/vernissage-jorgen-winberg-pa-galleri-upsala/2018-08-17/
LOCATION:Galleri Upsala 1810\, Svartbäcksgatan 21\, Uppsala\, 75332\, Sverige
CATEGORIES:Konst, Fotografi och Design,Utställning,Vuxen
ATTACH;FMTTYPE=image/jpeg:https://arkiv.gratisuppsala.se/wp-content/uploads/2018/08/Jörgen-Winberg-Galleri-Upsala-e1534251299191.jpg
GEO:59.8611308;17.6344008
X-APPLE-STRUCTURED-LOCATION;VALUE=URI;X-ADDRESS=Galleri Upsala 1810 Svartbäcksgatan 21 Uppsala 75332 Sverige;X-APPLE-RADIUS=500;X-TITLE=Svartbäcksgatan 21:geo:17.6344008,59.8611308
END:VEVENT
END:VCALENDAR