BEGIN:VCALENDAR
VERSION:2.0
PRODID:-//Gratis Uppsala - ECPv5.2.1//NONSGML v1.0//EN
CALSCALE:GREGORIAN
METHOD:PUBLISH
X-WR-CALNAME:Gratis Uppsala
X-ORIGINAL-URL:https://arkiv.gratisuppsala.se
X-WR-CALDESC:Händelser för Gratis Uppsala
BEGIN:VTIMEZONE
TZID:Europe/Stockholm
BEGIN:DAYLIGHT
TZOFFSETFROM:+0100
TZOFFSETTO:+0200
TZNAME:CEST
DTSTART:20170326T010000
END:DAYLIGHT
BEGIN:STANDARD
TZOFFSETFROM:+0200
TZOFFSETTO:+0100
TZNAME:CET
DTSTART:20171029T010000
END:STANDARD
END:VTIMEZONE
BEGIN:VEVENT
DTSTART;TZID=Europe/Stockholm:20170309T090000
DTEND;TZID=Europe/Stockholm:20170309T160000
DTSTAMP:20260420T050815
CREATED:20170302T105332Z
LAST-MODIFIED:20170302T105332Z
UID:12278-1489050000-1489075200@arkiv.gratisuppsala.se
SUMMARY:Vetenskapsfestivalen SciFest
DESCRIPTION:Uppsala Universitets vetenskapsfestival SciFest i Multihallarna\nNu är det dags för sjätte upplagan av SciFest. 9-11 mars slår Fyrishovs multihallar upp portarna för skolelever\, lärare och allmänheten. En mångfald av prova-på-aktiviteter inom Uppsala Universitets alla vetenskapsområden erbjuds. \nEtt brett utbud av workshops\, shower\, tävlingar\, forskarträffar och föredrag väntar besökaren på SciFest. Här kan nyfikna i alla åldrar prova på och få smakprov på forskning och tillämpning av forskning inom alla vetenskapsområden. \n2017 – LÖRDAGEN 11 MARS\, KL. 9-16\nAllmänheten bjuds på ett spännande och inspirerande scenprogram samt en mångfald av prova-på-aktiviteter inom humaniora och samhällsvetenskap\, medicin och farmaci samt teknik och naturvetenskap. \nProgram på scenen i B-hallen:\n10-11 – Fysik & lasershow\nFysik & lasershowen är en makalöst spektakulär show som ger smakprov på hur lekfull fysik kan vara. Upplev häftiga experiment (eld\, ljus\, ljud\, tryck\, vakuum). Fascineras av en fantastisk lasershow i en dånande rökfylld sal. Showen firar 20 år och är nu i Uppsala efter succéer i bl a Shanghai\, Belgrad\, Oslo\, Melbourne\, Köpenhamn\, Lund och Göteborg. \n11:15-12:15 – Föreläsning om Digital arkeologi & Augmented History med arkeologen Dr. Daniel Löwenborg\nHur såg Uppsala ut på medeltiden? Hur var det att röra sig i miljön runt domkyrkan och den äldsta universitetsbyggnaden i början av 1500-talet? Snart kommer du att kunna uppleva detta själv\, med appen Augmented History\, som släpps i vår. Arkeologen Daniel Löwenborg vid Uppsala universitet visar hur man med digital teknik kan återskapa försvunna miljöer och skapa virtuella möten med kända och okända historiska personer. 3D-modeller används allt mer inom arkeologin för dokumentation\, analys och presentation\, och under föreläsningen kommer några enkla sätt att skapa 3D-modeller visas\, för den som vill testa att börja skapa modeller på egen hand. \n12:30-14:00 – Science slam \nScience slam med bland annat Steffi Burchardt (geologi)\, Mattias Hallberg (droger och spelberoende)\, Anna Sarkadi (socialpediatrik)\, Dag Blanck (nordamerikastudier). Fler namn kommer inom kort. Programledare är vetenskapsjournalisten Ann Fernholm. \n14:15-15:15 – Fysik & lasershow \nDessa aktiviteter kommer att erbjudas i multihallarna:\n\nAcceleratorteknik i forskning och vardagslivet. Lär dig hur en partikelaccelerator fungerar med institutionen för fysik och astronomi\, Freia-laboratoriet.\nBeräkna Pi och gissa antalet godisar i burken. Lär dig om Hexaflexagoner. Hitta det gyllene snittet. Spela Nim. Matematiksällskapet.\nHur ser en cell egentligen ut i verkligheten? Missa inte chansen att ta en cellfie! Institutionen för Immunologi\, Genetik och Patologi.\nDen geologiska sandlådan visa höjdkurvor som snabbt förändras när du gräver i sanden. Institutionen för geovetenskaper.\nErkenlaboratoriets vattendagar – limnologi i skolformat.\nExperiment med Professor Vatten. Uppsala vattencentrum.\nFeministisk stadsvandring – inomhusversionen! Han\, hon\, hen. Hur görs kön? Och varför? Centrum för genusvetenskap.\nUpptäck planeten jorden. Lär dig mer om jordbävningar och jordens inre med institutionen för geovetenskaper.\nGröna cellfabriker: bakterier som gör bensin. Institutionen för Kemi – Ångström.\nHigh-speed imaging from molecules to motors med institutionen för cell- och molekylärbiologi.\nKemi är kul! Institutionen för kemi – Ångström.\nKöra bil på bakterie-prutt och bananskal? Testa att göra en biogasballong! Uppsala Vatten.\nProgrammera legorobotar. Teknisk- naturvetenskapliga fakulteten.\nMaterial i kroppen. Institutionen för teknikvetenskaper.\nMatteworkshop med Mattecentrum.\nMikrober i köket. Institutionen för cell- och molekylärbiologi.\nPower to the people. Forsmarks skola.\nProfessor Vakuum. Institutionen för fysik och astronomi.\nSjälvrengörande ytor\, luft och vattenrening\, och andra saker man kan göra med nanoteknik och solljus. Institutionen för teknikvetenskaper.\nThe fate of drugs in human. Institutionen för läkemedelskemi.\nUtgrävning pågår! Evolutionsmuseet och Biotopia.\nVad händer med ett blodprov? U-CAN-projektet & Uppsala biobank.\n\nTid och plast \nTorsdag 9 mars – lördag 11 mars kl 9-16 \nFyrishovs multihallar \nFritt inträde! \nBilden är hämtad från Google bilder \nDela evenemanget
URL:https://arkiv.gratisuppsala.se/event/vetenskapsfestivalen-scifest-2/2017-03-09/
LOCATION:Fyrishov\, Idrottsgatan 2\, Uppsala\, 753 33
CATEGORIES:Kunskap och Lärande,Teknik och Vetenskap,Utställning
ATTACH;FMTTYPE=image/jpeg:https://arkiv.gratisuppsala.se/wp-content/uploads/2017/03/dna-869109_960_720-e1488451186542.jpg
GEO:59.8705229;17.6233124
X-APPLE-STRUCTURED-LOCATION;VALUE=URI;X-ADDRESS=Fyrishov Idrottsgatan 2 Uppsala 753 33;X-APPLE-RADIUS=500;X-TITLE=Idrottsgatan 2:geo:17.6233124,59.8705229
END:VEVENT
END:VCALENDAR