BEGIN:VCALENDAR
VERSION:2.0
PRODID:-//Gratis Uppsala - ECPv5.2.1//NONSGML v1.0//EN
CALSCALE:GREGORIAN
METHOD:PUBLISH
X-WR-CALNAME:Gratis Uppsala
X-ORIGINAL-URL:https://arkiv.gratisuppsala.se
X-WR-CALDESC:Händelser för Gratis Uppsala
BEGIN:VTIMEZONE
TZID:Europe/Stockholm
BEGIN:DAYLIGHT
TZOFFSETFROM:+0100
TZOFFSETTO:+0200
TZNAME:CEST
DTSTART:20160327T010000
END:DAYLIGHT
BEGIN:STANDARD
TZOFFSETFROM:+0200
TZOFFSETTO:+0100
TZNAME:CET
DTSTART:20161030T010000
END:STANDARD
END:VTIMEZONE
BEGIN:VEVENT
DTSTART;VALUE=DATE:20160303
DTEND;VALUE=DATE:20160306
DTSTAMP:20260420T003525
CREATED:20160202T105927Z
LAST-MODIFIED:20160209T082159Z
UID:6041-1456963200-1457222399@arkiv.gratisuppsala.se
SUMMARY:Vetenskapsfestivalen SciFest
DESCRIPTION:Utställare och deltagare på SciFest kommer från såväl skolor och universitet som företag\, myndigheter\, muséer och organisationer. Många är unga studenter\, forskare och innovatörer som bidrar till att inspirera andra unga. Alla aktiviteter på SciFest på lördagen pågår non-stop. Ingen förbokning behövs och inträdet är fritt. \n“Du bjuds på ett brett utbud av workshops\, föredrag och uppträdanden.\nSciFest väcker kunskapstörst och sprider upptäckarglädje.\nKom och ge dina hjärnceller stimulans och bli lite klokare!” \nNär? 5 mars kl. 9-16 (allmänhetens dag)\nVar? Fyrishovs Multihallar\, Idrottsgatan 2\, Uppsala\nPassar bra för ung som gammal. Gratis inträde.\nVälkommen! \nUppsala universitet\n0704250608 \n— \nScifest äger rum på Fyrishov\n3-5 mars\, kl.9:00 – 16:00 \nDela evenemanget
URL:https://arkiv.gratisuppsala.se/event/vetenskapsfestivalen-scifest/
LOCATION:Fyrishov\, Idrottsgatan 2\, Uppsala\, 753 33
CATEGORIES:Föreläsning och Kurs,Workshop
GEO:59.8705229;17.6233124
X-APPLE-STRUCTURED-LOCATION;VALUE=URI;X-ADDRESS=Fyrishov Idrottsgatan 2 Uppsala 753 33;X-APPLE-RADIUS=500;X-TITLE=Idrottsgatan 2:geo:17.6233124,59.8705229
END:VEVENT
END:VCALENDAR