BEGIN:VCALENDAR
VERSION:2.0
PRODID:-//Gratis Uppsala - ECPv5.2.1//NONSGML v1.0//EN
CALSCALE:GREGORIAN
METHOD:PUBLISH
X-WR-CALNAME:Gratis Uppsala
X-ORIGINAL-URL:https://arkiv.gratisuppsala.se
X-WR-CALDESC:Händelser för Gratis Uppsala
BEGIN:VTIMEZONE
TZID:Europe/Stockholm
BEGIN:DAYLIGHT
TZOFFSETFROM:+0100
TZOFFSETTO:+0200
TZNAME:CEST
DTSTART:20150329T010000
END:DAYLIGHT
BEGIN:STANDARD
TZOFFSETFROM:+0200
TZOFFSETTO:+0100
TZNAME:CET
DTSTART:20151025T010000
END:STANDARD
END:VTIMEZONE
BEGIN:VEVENT
DTSTART;TZID=Europe/Stockholm:20150825T190000
DTEND;TZID=Europe/Stockholm:20150825T220000
DTSTAMP:20260420T023342
CREATED:20150518T112648Z
LAST-MODIFIED:20150518T112648Z
UID:2137-1440529200-1440540000@arkiv.gratisuppsala.se
SUMMARY:Veteranbilsträff på Ulva
DESCRIPTION:Veteranbilsträff på Ulva\nAutomobilhistoriska klubben Uppland håller veteranbilsträff på tisdagar under perioden 12 maj – 8 september.\n \nPreliminär kalender för årets temadagar: \n26/5 Svenska Laverda-klubben och Engelska bilar \n9/6 Volvo samt Erling Carlssons ångbil \n16/6 OK/Q8 på besök (eventuellt även Porsche) \n23/6 Mustang-klubben \n30/6 SAAB-klubben \n28/7 Mercedes-Benz klubben \n4/8 Förkrigsbilar \n11/8 Rolls-Royce / Bentley \n18/8 BMW Club Schweden \nAutomobilhistoriska klubben Uppland \nAutomobilhistoriska klubben är Sveriges första och äldsta veteranbilklubb\, bildad 1950. AHK ordnar varje år en lång rad veteranbilsrallyn\, marknader och andra träffar\, deltar i utställningar och mässor. AHK är ett stort\, rullande museum. \nDela evenemanget
URL:https://arkiv.gratisuppsala.se/event/veteranbilstraff-pa-ulva-15/
LOCATION:Ulva kvarn\, Ulva kvarn\, Uppsala\, 75593\, Sverige
CATEGORIES:Utställning
ATTACH;FMTTYPE=image/jpeg:https://arkiv.gratisuppsala.se/wp-content/uploads/2015/05/automobilhistoriska-klubben-uppland-e1438608849411.jpg
GEO:59.9132533;17.5755081
X-APPLE-STRUCTURED-LOCATION;VALUE=URI;X-ADDRESS=Ulva kvarn Ulva kvarn Uppsala 75593 Sverige;X-APPLE-RADIUS=500;X-TITLE=Ulva kvarn:geo:17.5755081,59.9132533
END:VEVENT
END:VCALENDAR