BEGIN:VCALENDAR
VERSION:2.0
PRODID:-//Gratis Uppsala - ECPv5.2.1//NONSGML v1.0//EN
CALSCALE:GREGORIAN
METHOD:PUBLISH
X-WR-CALNAME:Gratis Uppsala
X-ORIGINAL-URL:https://arkiv.gratisuppsala.se
X-WR-CALDESC:Händelser för Gratis Uppsala
BEGIN:VTIMEZONE
TZID:Europe/Stockholm
BEGIN:DAYLIGHT
TZOFFSETFROM:+0100
TZOFFSETTO:+0200
TZNAME:CEST
DTSTART:20180325T010000
END:DAYLIGHT
BEGIN:STANDARD
TZOFFSETFROM:+0200
TZOFFSETTO:+0100
TZNAME:CET
DTSTART:20181028T010000
END:STANDARD
END:VTIMEZONE
BEGIN:VEVENT
DTSTART;TZID=Europe/Stockholm:20181007T120000
DTEND;TZID=Europe/Stockholm:20181007T143000
DTSTAMP:20260423T163949
CREATED:20181006T134519Z
LAST-MODIFIED:20181006T140549Z
UID:29761-1538913600-1538922600@arkiv.gratisuppsala.se
SUMMARY:Skogsvandring längs Vildmarksleden
DESCRIPTION:Upptäck Vildmarksleden i Storskogens naturreservat tillsammans med naturguide Maria Brandt.\nUpptäck Vildmarksleden – I den trolska skogen letar ni gemensamt upp och sätter namn på det som gör Storskogen unik och skyddsvärd. Olika mossor och lavar\, spår av små och stora djur\, lämningar från inlandsisen och mycket mer. \nVandringen är 3\,5 km lång och går längs stig genom bitvis stenig och knölig terräng. Ni passerar bl.a. smultronstället Gammelskogen och blockgrottorna vid Trollberget. \nNi startar vid eldplatsen 800 m in i skogen\, följ snitslarna längs Jällaleden\, från parkeringen vid Tistelvägen. Det går bra att lämna ev matsäck vid eldplatsen eftersom ni även avslutar där. En familjeaktivitet pågår i samma område kl. 10-14. \nGammelskogen i Storskogen är ett av Uppsala kommuns Smultronställen. \nTid och datum: 7 oktober kl 11:00-13:30 \nPlats: Storskogens naturreservat\, Storvreta \nArrangör: Biotopia \nAnmälan: Anmäl dig till info@biotopia.nu senast två dagar innan. \nHemsida: Biotopia \nBild: pixabay.com \nDela evenemanget
URL:https://arkiv.gratisuppsala.se/event/vildmarksleden-skogsvandring/
CATEGORIES:Kunskap och Lärande,Utflykt / Picknick,Utomhusaktivitet,Vandring,Vuxen
ATTACH;FMTTYPE=image/jpeg:https://arkiv.gratisuppsala.se/wp-content/uploads/2018/09/forest-3448818_640.jpg
END:VEVENT
END:VCALENDAR