BEGIN:VCALENDAR
VERSION:2.0
PRODID:-//Gratis Uppsala - ECPv5.2.1//NONSGML v1.0//EN
CALSCALE:GREGORIAN
METHOD:PUBLISH
X-WR-CALNAME:Gratis Uppsala
X-ORIGINAL-URL:https://arkiv.gratisuppsala.se
X-WR-CALDESC:Händelser för Gratis Uppsala
BEGIN:VTIMEZONE
TZID:Europe/Stockholm
BEGIN:DAYLIGHT
TZOFFSETFROM:+0100
TZOFFSETTO:+0200
TZNAME:CEST
DTSTART:20170326T010000
END:DAYLIGHT
BEGIN:STANDARD
TZOFFSETFROM:+0200
TZOFFSETTO:+0100
TZNAME:CET
DTSTART:20171029T010000
END:STANDARD
END:VTIMEZONE
BEGIN:VEVENT
DTSTART;TZID=Europe/Stockholm:20170404T193000
DTEND;TZID=Europe/Stockholm:20170404T210000
DTSTAMP:20260419T232850
CREATED:20170321T125423Z
LAST-MODIFIED:20170330T111822Z
UID:12704-1491334200-1491339600@arkiv.gratisuppsala.se
SUMMARY:Visafton med Ena Vis AB
DESCRIPTION:Ena Vis AB består av trion Curt Beijer\, Ann Såthe och Hasse Karlsson\, alla kommer de från Enköpingstrakten. De sjunger visor till eget gitarrackompanjemang. Repertoaren består av visor av allehanda slag allt från folkvisor till nyare tonsättningar. \nKvällen börjar med fika och till påtåren börjar de spela. Programmet är cirka en timme. \nDela evenemanget
URL:https://arkiv.gratisuppsala.se/event/visafton-med-ena-vis-ab/
LOCATION:Enköping museum\, Rådhusgtan 3\, ENKÖPING\, Sverige
CATEGORIES:Sång och Musik
ATTACH;FMTTYPE=image/jpeg:https://arkiv.gratisuppsala.se/wp-content/uploads/2015/06/Gitarr.jpg
GEO:59.6362811;17.0794788
X-APPLE-STRUCTURED-LOCATION;VALUE=URI;X-ADDRESS=Enköping museum Rådhusgtan 3 ENKÖPING Sverige;X-APPLE-RADIUS=500;X-TITLE=Rådhusgtan 3:geo:17.0794788,59.6362811
END:VEVENT
END:VCALENDAR