BEGIN:VCALENDAR
VERSION:2.0
PRODID:-//Gratis Uppsala - ECPv5.2.1//NONSGML v1.0//EN
CALSCALE:GREGORIAN
METHOD:PUBLISH
X-WR-CALNAME:Gratis Uppsala
X-ORIGINAL-URL:https://arkiv.gratisuppsala.se
X-WR-CALDESC:Händelser för Gratis Uppsala
BEGIN:VTIMEZONE
TZID:Europe/Stockholm
BEGIN:DAYLIGHT
TZOFFSETFROM:+0100
TZOFFSETTO:+0200
TZNAME:CEST
DTSTART:20160327T010000
END:DAYLIGHT
BEGIN:STANDARD
TZOFFSETFROM:+0200
TZOFFSETTO:+0100
TZNAME:CET
DTSTART:20161030T010000
END:STANDARD
END:VTIMEZONE
BEGIN:VEVENT
DTSTART;TZID=Europe/Stockholm:20160304T130000
DTEND;TZID=Europe/Stockholm:20160302T170000
DTSTAMP:20260420T032212
CREATED:20160302T133054Z
LAST-MODIFIED:20160302T133054Z
UID:6348-1457096400-1456938000@arkiv.gratisuppsala.se
SUMMARY:Visning i barnvagnslunk
DESCRIPTION:Visning i barnvagnslunk på Uppsala Konstmuseum\, Agnes Cleve – en svensk modernist i världen. Guidad visning som är anpassad till små barns upptäckarglädje i lugn takt. \nFinns det större syskon med som är sugna på att skapa tas en sväng ner i verkstan efter visningen. \nFredag 4 mars kl 13. \nBild: publicdomainvectors.org. \nDela evenemanget
URL:https://arkiv.gratisuppsala.se/event/visning-i-barnvagnslunk/
LOCATION:Uppsala konstmuseum\, Drottning Christinas väg 1E\, Uppsala\, 75237 \, Sverige
CATEGORIES:Konst, Fotografi och Design,Utställning
ATTACH;FMTTYPE=image/png:https://arkiv.gratisuppsala.se/wp-content/uploads/2016/03/mammaledig.png
GEO:59.8532935;17.6351313
X-APPLE-STRUCTURED-LOCATION;VALUE=URI;X-ADDRESS=Uppsala konstmuseum Drottning Christinas väg 1E Uppsala 75237  Sverige;X-APPLE-RADIUS=500;X-TITLE=Drottning Christinas väg 1E:geo:17.6351313,59.8532935
END:VEVENT
END:VCALENDAR