BEGIN:VCALENDAR
VERSION:2.0
PRODID:-//Gratis Uppsala - ECPv5.2.1//NONSGML v1.0//EN
CALSCALE:GREGORIAN
METHOD:PUBLISH
X-WR-CALNAME:Gratis Uppsala
X-ORIGINAL-URL:https://arkiv.gratisuppsala.se
X-WR-CALDESC:Händelser för Gratis Uppsala
BEGIN:VTIMEZONE
TZID:Europe/Stockholm
BEGIN:DAYLIGHT
TZOFFSETFROM:+0100
TZOFFSETTO:+0200
TZNAME:CEST
DTSTART:20160327T010000
END:DAYLIGHT
BEGIN:STANDARD
TZOFFSETFROM:+0200
TZOFFSETTO:+0100
TZNAME:CET
DTSTART:20161030T010000
END:STANDARD
END:VTIMEZONE
BEGIN:VEVENT
DTSTART;TZID=Europe/Stockholm:20160504T133000
DTEND;TZID=Europe/Stockholm:20160406T180000
DTSTAMP:20260421T201819
CREATED:20160406T114851Z
LAST-MODIFIED:20160406T114851Z
UID:6641-1462368600-1459965600@arkiv.gratisuppsala.se
SUMMARY:Trädgårdsmästarvisning i Linnéträdgården
DESCRIPTION:Följ med trädgårdsmästaren på visning i en vårblommande trädgård. Vad gör odlaren så här års? Linnéträdgården. \nDela evenemanget
URL:https://arkiv.gratisuppsala.se/event/visning-tropiska-vaxthuset/
LOCATION:Linnéträdgården\, Svartbäcksgatan 27\, Uppsala\, 753 32\, Sverige
CATEGORIES:Föreläsning och Kurs
ATTACH;FMTTYPE=image/jpeg:https://arkiv.gratisuppsala.se/wp-content/uploads/2016/04/Linnetradg.jpg
GEO:59.8622181;17.6349969
X-APPLE-STRUCTURED-LOCATION;VALUE=URI;X-ADDRESS=Linnéträdgården Svartbäcksgatan 27 Uppsala 753 32 Sverige;X-APPLE-RADIUS=500;X-TITLE=Svartbäcksgatan 27:geo:17.6349969,59.8622181
END:VEVENT
END:VCALENDAR