BEGIN:VCALENDAR
VERSION:2.0
PRODID:-//Gratis Uppsala - ECPv5.2.1//NONSGML v1.0//EN
CALSCALE:GREGORIAN
METHOD:PUBLISH
X-WR-CALNAME:Gratis Uppsala
X-ORIGINAL-URL:https://arkiv.gratisuppsala.se
X-WR-CALDESC:Händelser för Gratis Uppsala
BEGIN:VTIMEZONE
TZID:Europe/Stockholm
BEGIN:DAYLIGHT
TZOFFSETFROM:+0100
TZOFFSETTO:+0200
TZNAME:CEST
DTSTART:20160327T010000
END:DAYLIGHT
BEGIN:STANDARD
TZOFFSETFROM:+0200
TZOFFSETTO:+0100
TZNAME:CET
DTSTART:20161030T010000
END:STANDARD
END:VTIMEZONE
BEGIN:VEVENT
DTSTART;TZID=Europe/Stockholm:20161015T170000
DTEND;TZID=Europe/Stockholm:20161015T183000
DTSTAMP:20260420T024324
CREATED:20161014T074239Z
LAST-MODIFIED:20161014T074239Z
UID:8854-1476550800-1476556200@arkiv.gratisuppsala.se
SUMMARY:Voces jubileumskonsert
DESCRIPTION:Lördagen den 15 oktober i Gottsunda kyrka håller kören Voces en jubileumskonsert. Dirigent Bertil Häggmark. \nNär: 15 oktober kl. 16.00-17.30 \nVar: Gottsunda Kyrka \n  \nBild från pixabay.com \nDela evenemanget
URL:https://arkiv.gratisuppsala.se/event/voces-jubileumskonsert/
LOCATION:Gottsunda kyrka\, Gottsunda Centrum\, Uppsala\, 75025\, Sverige
CATEGORIES:Konsert,Religion,Sång och Musik
ATTACH;FMTTYPE=image/jpeg:https://arkiv.gratisuppsala.se/wp-content/uploads/2016/10/Noter-blomma.jpg
GEO:59.8093409;17.6295555
X-APPLE-STRUCTURED-LOCATION;VALUE=URI;X-ADDRESS=Gottsunda kyrka Gottsunda Centrum Uppsala 75025 Sverige;X-APPLE-RADIUS=500;X-TITLE=Gottsunda Centrum:geo:17.6295555,59.8093409
END:VEVENT
END:VCALENDAR