BEGIN:VCALENDAR
VERSION:2.0
PRODID:-//Gratis Uppsala - ECPv5.2.1//NONSGML v1.0//EN
CALSCALE:GREGORIAN
METHOD:PUBLISH
X-WR-CALNAME:Gratis Uppsala
X-ORIGINAL-URL:https://arkiv.gratisuppsala.se
X-WR-CALDESC:Händelser för Gratis Uppsala
BEGIN:VTIMEZONE
TZID:Europe/Stockholm
BEGIN:DAYLIGHT
TZOFFSETFROM:+0100
TZOFFSETTO:+0200
TZNAME:CEST
DTSTART:20170326T010000
END:DAYLIGHT
BEGIN:STANDARD
TZOFFSETFROM:+0200
TZOFFSETTO:+0100
TZNAME:CET
DTSTART:20171029T010000
END:STANDARD
END:VTIMEZONE
BEGIN:VEVENT
DTSTART;TZID=Europe/Stockholm:20170522T183000
DTEND;TZID=Europe/Stockholm:20170522T194500
DTSTAMP:20260420T205903
CREATED:20170522T072119Z
LAST-MODIFIED:20170522T072303Z
UID:14215-1495477800-1495482300@arkiv.gratisuppsala.se
SUMMARY:Yoga med böcker
DESCRIPTION:Yoga på Gottsundabiblioteket\nLär dig grundpositionerna i yoga! \nDu får också boktips om olika teman i yogan. \n\n\n\nLärare: Kasia Kasprzyk.\nAnmälan till: kasprzyk.kasia@gmail.com eller 073-613 62 62. \nBegränsat antal platser. \nMåndagar 17:30-18:45\n16 januari – 29 maj \nTemaverkstan Gottsundabiblioteket \nBild från pixabay.com \n\n Dela evenemanget
URL:https://arkiv.gratisuppsala.se/event/yoga-med-bocker/2017-05-22/
LOCATION:Gottsundabiblioteket\, Valthornsvägen 11\, Uppsala\, 756 50 \, Sverige
CATEGORIES:Kropp och Själ,Kunskap och Lärande,Litteratur och Poesi,Prova-på,Vuxen
ATTACH;FMTTYPE=image/jpeg:https://arkiv.gratisuppsala.se/wp-content/uploads/2016/03/grodor_som_yogar.jpg
ORGANIZER;CN="Bibliotek%20Uppsala":MAILTO:kundtjanst@bibliotekuppsala.se
GEO:59.8093409;17.6295555
X-APPLE-STRUCTURED-LOCATION;VALUE=URI;X-ADDRESS=Gottsundabiblioteket Valthornsvägen 11 Uppsala 756 50  Sverige;X-APPLE-RADIUS=500;X-TITLE=Valthornsvägen 11:geo:17.6295555,59.8093409
END:VEVENT
END:VCALENDAR